Workbook

Sheet How to Use
A3: 📌 How to Use This Model
A5: 1. Go to PL_3Y_SME sheet and enter your Profit & Loss figures.
A7: 2. Go to BS_3Y_SME sheet and enter your Balance Sheet figures.
A9: 3. Do not edit any formula cells.
A11: Once P&L and Balance Sheet data are filled correctly, the model will automatically generate:
A13: Free Cash Flow (FCFF & FCFE)
A15: Working Capital analysis (DSO, CCC, NWC%)
A17: Financial ratios (Liquidity, Profitability, Leverage, Turnover)
A19: AI-based Financial Health Score (out of 25)
A21: Risk classification (Strong / Stable / Moderate / High Risk / Critical)
A23: Executive financial summary ready for presentation
A25: Just fill the financial statements — everything else runs automatically.

Sheet PL_3Y_SME
A1: Statement of Profit & Loss
A3: Particulars | B3: FY1 | C3: FY2 | D3: FY3 | E3: YOY Growth (FY2 Vs Y1) | F3: YOY Growth (Y3 Vs Y2)
A4: Revenue from Operations | B4: 1000 | C4: 2000 | D4: 2500 | E4: =(C4/B4)-1 -> 1 | F4: =(D4/C4)-1 -> 0.25
A5: Other Operating Revenue | B5: 4 | C5: 5 | D5: 3 | E5: =(C5/B5)-1 -> 0.25 | F5: =(D5/C5)-1 -> -0.4
A6: Total Revenue (I) | B6: =B4+B5 -> 1004 | C6: =C4+C5 -> 2005 | D6: =D4+D5 -> 2503 | E6: =(C6/B6)-1 -> 0.99701195 | F6: =(D6/C6)-1 -> 0.24837905
A7: Direct Material/Service Cost | B7: 800 | C7: 1600 | D7: 2000 | E7: =(C7/B7)-1 -> 1 | F7: =(D7/C7)-1 -> 0.25
A8: Employee Cost | B8: 30 | C8: 40 | D8: 50 | E8: =(C8/B8)-1 -> 0.33333333 | F8: =(D8/C8)-1 -> 0.25
A9: Other Operating Expenses | B9: 20 | C9: 25 | D9: 30 | E9: =(C9/B9)-1 -> 0.25 | F9: =(D9/C9)-1 -> 0.2
A10: Total Expenses (II) | B10: =SUM(B7:B9) -> 850 | C10: =SUM(C7:C9) -> 1665 | D10: =SUM(D7:D9) -> 2080 | E10: =(C10/B10)-1 -> 0.95882353 | F10: =(D10/C10)-1 -> 0.24924925
A11: EBITDA | B11: =B6-B10 -> 154 | C11: =C6-C10 -> 340 | D11: =D6-D10 -> 423 | E11: =(C11/B11)-1 -> 1.2077922 | F11: =(D11/C11)-1 -> 0.24411765
A12: EBITDA % | B12: =B11/B6 -> 0.15338645 | C12: =C11/C6 -> 0.16957606 | D12: =D11/D6 -> 0.1689972
A13: Depreciation | B13: 20 | C13: 25 | D13: 30 | E13: =(C13/B13)-1 -> 0.25 | F13: =(D13/C13)-1 -> 0.2
A14: EBIT | B14: =B11-B13 -> 134 | C14: =C11-C13 -> 315 | D14: =D11-D13 -> 393 | E14: =(C14/B14)-1 -> 1.3507463 | F14: =(D14/C14)-1 -> 0.24761905
A15: Add: Other Income | B15: 2 | C15: 3 | D15: 2 | E15: =(C15/B15)-1 -> 0.5 | F15: =(D15/C15)-1 -> -0.33333333
A16: Less: Finance Cost | B16: -7 | C16: -10 | D16: -15 | E16: =(C16/B16)-1 -> 0.42857143 | F16: =(D16/C16)-1 -> 0.5
A17: Profit before tax (PBT) | B17: =B14-SUM(B16:B16) -> 141 | C17: =C14-SUM(C16:C16) -> 325 | D17: =D14-SUM(D16:D16) -> 408 | E17: =(C17/B17)-1 -> 1.3049645 | F17: =(D17/C17)-1 -> 0.25538462
A18: Tax Expense | B18: 3 | C18: 7 | D18: 10 | E18: =(C18/B18)-1 -> 1.3333333 | F18: =(D18/C18)-1 -> 0.42857143
A19: Profit After Tax | B19: =B17-B18 -> 138 | C19: =C17-C18 -> 318 | D19: =D17-D18 -> 398 | E19: =(C19/B19)-1 -> 1.3043478 | F19: =(D19/C19)-1 -> 0.25157233
A20: Net Profit Margin % | B20: =B19/B6 -> 0.1374502 | C20: =C19/C6 -> 0.15860349 | D20: =D19/D6 -> 0.15900919

Sheet BS_3Y_SME
A1: Balance Sheet
A3: Particulars | B3: FY1 | C3: FY2 | D3: FY3 | E3: FY3 Vs FY 2 Changes | F3: FY2 Vs FY1 Changes
A4: ASSETS
A5: Non-Current Assets
A6: PPE | B6: 5000 | C6: 5475 | D6: 5470 | E6: =D6-C6 -> -5 | F6: =C6-B6 -> 475
A7: Non-Current Investment | B7: 100 | C7: 100 | D7: 100 | E7: =D7-C7 -> 0 | F7: =C7-B7 -> 0
A8: Other Non-Current Assets | B8: 10 | C8: 20 | D8: 30 | E8: =D8-C8 -> 10 | F8: =C8-B8 -> 10
A9: Deferred tax Assets | B9: 300 | C9: 400 | D9: 500 | E9: =D9-C9 -> 100 | F9: =C9-B9 -> 100
A10: Non-current tax assets (net) | B10: 10 | C10: 20 | D10: 30 | E10: =D10-C10 -> 10 | F10: =C10-B10 -> 10
A11: Total Non-Current Assets | B11: =SUM(B6:B10) -> 5420 | C11: =SUM(C6:C10) -> 6015 | D11: =SUM(D6:D10) -> 6130 | E11: =D11-C11 -> 115 | F11: =C11-B11 -> 595
E12: =D12-C12 -> 0 | F12: =C12-B12 -> 0
A13: Current Assets | E13: =D13-C13 -> 0 | F13: =C13-B13 -> 0
A14: Inventories | B14: 100 | C14: 150 | D14: 200 | E14: =D14-C14 -> 50 | F14: =C14-B14 -> 50
A15: Current Investment | B15: 10 | C15: 20 | D15: 30 | E15: =D15-C15 -> 10 | F15: =C15-B15 -> 10
A16: Trade Receivables | B16: 200 | C16: 400 | D16: 500 | E16: =D16-C16 -> 100 | F16: =C16-B16 -> 200
A17: Cash & Bank | B17: 500 | C17: 300 | D17: 300 | E17: =D17-C17 -> 0 | F17: =C17-B17 -> -200
A18: Other Current Assets | B18: 20 | C18: 30 | D18: 35 | E18: =D18-C18 -> 5 | F18: =C18-B18 -> 10
A19: Total Current Assets | B19: =SUM(B14:B18) -> 830 | C19: =SUM(C14:C18) -> 900 | D19: =SUM(D14:D18) -> 1065 | E19: =D19-C19 -> 165 | F19: =C19-B19 -> 70
A21: Total Assets | B21: =B19+B11 -> 6250 | C21: =C19+C11 -> 6915 | D21: =D19+D11 -> 7195 | E21: =E19+E11 -> 280 | F21: =F19+F11 -> 665
A23: EQUITY & LIABILITIES
A24: Equity Share Capital | B24: 3500 | C24: 3000 | D24: 3000 | E24: =D24-C24 -> 0 | F24: =C24-B24 -> -500
A25: Retained Earnings | B25: =10+PL_3Y_SME!B19 -> 148 | C25: =B25+PL_3Y_SME!C19 -> 466 | D25: =C25+PL_3Y_SME!D19 -> 864 | E25: =D25-C25 -> 398 | F25: =C25-B25 -> 318
A26: Total Equity | B26: =B24+B25 -> 3648 | C26: =C24+C25 -> 3466 | D26: =D24+D25 -> 3864 | E26: =D26-C26 -> 398 | F26: =C26-B26 -> -182
E27: =D27-C27 -> 0 | F27: =C27-B27 -> 0
A28: Non-Current Liabilities | E28: =D28-C28 -> 0 | F28: =C28-B28 -> 0
A29: Long-Term Borrowings | B29: 2000 | C29: 2500 | D29: 2800 | E29: =D29-C29 -> 300 | F29: =C29-B29 -> 500
A30: Long Term Provision | B30: 2 | C30: 3 | D30: 4 | E30: =D30-C30 -> 1 | F30: =C30-B30 -> 1
A31: Deferred tax Liabilities | B31: 22 | C31: 22 | D31: 74 | E31: =D31-C31 -> 52 | F31: =C31-B31 -> 0
A32: Total Non-Current Liabilities | B32: =SUM(B29:B31) -> 2024 | C32: =SUM(C29:C31) -> 2525 | D32: =SUM(D29:D31) -> 2878 | E32: =D32-C32 -> 353 | F32: =C32-B32 -> 501
E33: =D33-C33 -> 0 | F33: =C33-B33 -> 0
A34: Current Liabilities | E34: =D34-C34 -> 0 | F34: =C34-B34 -> 0
A35: Short-Term Borrowings | B35: 200 | C35: 300 | D35: 100 | E35: =D35-C35 -> -200 | F35: =C35-B35 -> 100
A36: Trade Payables | B36: 170 | C36: =333-25 -> 308 | D36: =416-200 -> 216 | E36: =D36-C36 -> -92 | F36: =C36-B36 -> 138
A37: Other Current Liabilities | B37: =B22+B35 -> 200 | C37: =C22+C35 -> 300 | D37: 120 | E37: =D37-C37 -> -180 | F37: =C37-B37 -> 100
A38: Liabilities for Income Tax | B38: 3 | C38: 10 | D38: 10 | E38: =D38-C38 -> 0 | F38: =C38-B38 -> 7
A39: Short Term Provision | B39: 5 | C39: 6 | D39: 7 | E39: =D39-C39 -> 1 | F39: =C39-B39 -> 1
A40: Total Current Liabilities | B40: =SUM(B35:B39) -> 578 | C40: =SUM(C35:C39) -> 924 | D40: =SUM(D35:D39) -> 453 | E40: =D40-C40 -> -471 | F40: =C40-B40 -> 346
E41: =D41-C41 -> 0 | F41: =C41-B41 -> 0
A42: Total Liabilities | B42: =B40+B32 -> 2602 | C42: =C40+C32 -> 3449 | D42: =D40+D32 -> 3331 | E42: =D42-C42 -> -118 | F42: =C42-B42 -> 847
A44: Total Equity & Liabilities | B44: =B42+B26 -> 6250 | C44: =C42+C26 -> 6915 | D44: =D42+D26 -> 7195 | E44: =E42+E26 -> 280 | F44: =F42+F26 -> 665
...

Sheet FREECASHFLOW_FY3
A1: Free Cash Flow for Firm
A2: camsroy.com
A4: Particulars | B4: FY2 | C4: FY3
A5: EBIT | B5: =PL_3Y_SME!C14 -> 315 | C5: =PL_3Y_SME!D14 -> 393
A6: Tax On EBIT (Assume 25% Rate) | B6: =-B5*25% -> -78.75 | C6: =-C5*25% -> -98.25
A7: Add: Depreciation | B7: =PL_3Y_SME!C13 -> 25 | C7: =PL_3Y_SME!D13 -> 30
A8: Changes In Working-Capital
A9: (Increase)/Decrease in Inventories | B9: =(BS_3Y_SME!B14-BS_3Y_SME!C14) -> -50 | C9: =(BS_3Y_SME!C14-BS_3Y_SME!D14) -> -50
A10: (Increase)/Decrease in Trade Receivables | B10: =(BS_3Y_SME!B16-BS_3Y_SME!C16) -> -200 | C10: =(BS_3Y_SME!C16-BS_3Y_SME!D16) -> -100
A11: (Increase)/Decrease in Other Current Assets | B11: =(BS_3Y_SME!B18-BS_3Y_SME!C18) -> -10 | C11: =(BS_3Y_SME!C18-BS_3Y_SME!D18) -> -5
A12: (Decrease)/Increase in Trade Payable | B12: =(BS_3Y_SME!C36-BS_3Y_SME!B36) -> 138 | C12: =(BS_3Y_SME!D36-BS_3Y_SME!C36) -> -92
A13: (Decrease)/Increase in other Current Liabilites | B13: =(BS_3Y_SME!C37-BS_3Y_SME!B37) -> 100 | C13: =(BS_3Y_SME!D37-BS_3Y_SME!C37) -> -180
A14: (Decrease)/Increase in Short term Operating Provision | B14: =(BS_3Y_SME!C39-BS_3Y_SME!B39) -> 1 | C14: =(BS_3Y_SME!D39-BS_3Y_SME!C39) -> 1
A16: Free Operating Cash Flow for Firm | B16: =SUM(B5:B14) -> 240.25 | C16: =SUM(C5:C14) -> -101.25
A17: CAPEX (Gross) | B17: =(BS_3Y_SME!B6-BS_3Y_SME!C6-PL_3Y_SME!C13) -> -500 | C17: =(BS_3Y_SME!C6-BS_3Y_SME!D6-PL_3Y_SME!D13) -> -25
A18: Free Cash Flow for Firm | B18: =B16+B17 -> -259.75 | C18: =C16+C17 -> -126.25
A19: Less: Interest X (1-Tax rate) | B19: =PL_3Y_SME!C16*(1-25%) -> -7.5 | C19: =PL_3Y_SME!D16*(1-25%) -> -11.25
A20: Add: Net Borrowing (Increase in Debt) | B20: =(BS_3Y_SME!C29-BS_3Y_SME!B29+BS_3Y_SME!C35-BS_3Y_SME!B35) -> 600 | C20: =(BS_3Y_SME!D29-BS_3Y_SME!C29+BS_3Y_SME!D35-BS_3Y_SME!C35) -> 100
A21: Free Cash flow to Equity | B21: =SUM(B18:B20) -> 332.75 | C21: =SUM(C18:C20) -> -37.5

Sheet WORKING_CAPITAL
A1: Working Capital Metrics
A2: Camsroy.com
A4: KPI | B4: Result FY 2 | C4: Result FY 3 | D4: Formula Structure (You Link) | E4: Ideal Range | F4: What It Measures / Interpretation
A5: DSO (Days Sales Outstanding) | B5: =IFERROR((BS_3Y_SME!B16+BS_3Y_SME!C16)/2/PL_3Y_SME!C6*365,0) -> 54.613466 | C5: =IFERROR((BS_3Y_SME!C16+BS_3Y_SME!D16)/2/PL_3Y_SME!D6*365,0) -> 65.621254 | D5: ((Avg Receivables) / Revenue) * 365 | E5: <45 Strong | 45-75 Normal | >90 Stress | F5: Measures average collection period from customers.
A6: Inventory Days | B6: =(BS_3Y_SME!B14+BS_3Y_SME!C14)/2/PL_3Y_SME!C7*365 -> 28.515625 | C6: =(BS_3Y_SME!C14+BS_3Y_SME!D14)/2/PL_3Y_SME!D7*365 -> 31.9375 | D6: ((Avg Inventory) / COGS) * 365 | E6: <40 Efficient | 40-70 Moderate | >90 Slow moving | F6: Measures how long inventory remains unsold.
A7: DPO (Days Payable Outstanding) | B7: =(BS_3Y_SME!B36+BS_3Y_SME!C36)/2/PL_3Y_SME!C7*365 -> 54.521875 | C7: =(BS_3Y_SME!C36+BS_3Y_SME!D36)/2/PL_3Y_SME!D7*365 -> 47.815 | D7: ((Avg Payables) / COGS) * 365 | E7: 30-60 Normal | Higher improves liquidity | F7: Measures average payment period to suppliers.
A8: Cash Conversion Cycle (CCC) | B8: =B5+B6-B7 -> 28.607216 | C8: =C5+C6-C7 -> 49.743754 | D8: DSO + Inventory Days - DPO | E8: <60 Healthy | >90 Cash pressure | F8: Measures net days cash is blocked in operations.
A9: Net Working Capital % | B9: =(BS_3Y_SME!C14+BS_3Y_SME!C16+BS_3Y_SME!C18-BS_3Y_SME!C36-BS_3Y_SME!C37-BS_3Y_SME!C38-BS_3Y_SME!C39)/PL_3Y_SME!C4 -> -0.022 | C9: =(BS_3Y_SME!D14+BS_3Y_SME!D16+BS_3Y_SME!D18-BS_3Y_SME!D36-BS_3Y_SME!D37-BS_3Y_SME!D38-BS_3Y_SME!D39)/PL_3Y_SME!D4 -> 0.1528 | D9: (Current Assets - Current Liabilities) / Revenue.Excluding Cash and cash equivalent and Borrowings | E9: 10-20% typical SME range | F9: Measures working capital intensity relative to revenue.

Sheet Ratio-KPI
A1: Financial Ratio Analysis (Structured - Board Level)
A2: camsroy.com
A4: KPI | B4: FY2 | C4: FY3 | D4: Formula Structure | E4: Ideal Benchmark | F4: What It Measures / Interpretation
A5: A. Liquidity Ratios
A6: Current Ratio | B6: =(BS_3Y_SME!C19/BS_3Y_SME!C40) -> 0.97402597 | C6: =(BS_3Y_SME!D19/BS_3Y_SME!D40) -> 2.3509934 | D6: Current Assets / Current Liabilities | E6: 1.5 – 2.5 Healthy | F6: Measures short-term solvency and ability to meet obligations.
A7: Quick Ratio | B7: =(BS_3Y_SME!C19-BS_3Y_SME!C14)/BS_3Y_SME!C40 -> 0.81168831 | C7: =(BS_3Y_SME!D19-BS_3Y_SME!D14)/BS_3Y_SME!D40 -> 1.9094923 | D7: (Current Assets - Inventory) / Current Liabilities | E7: >1 Preferred | F7: Measures immediate liquidity excluding inventory reliance.
A8: Cash Ratio | B8: =(BS_3Y_SME!C15+BS_3Y_SME!C17)/BS_3Y_SME!C40 -> 0.34632035 | C8: =(BS_3Y_SME!D15+BS_3Y_SME!D17)/BS_3Y_SME!D40 -> 0.72847682 | D8: Cash & Cash Equivalents / Current Liabilities | E8: 0.2 – 0.5 Normal | F8: Measures immediate cash strength to meet liabilities.
A9: B. Profitability Ratios
A10: Gross Margin % | B10: =(PL_3Y_SME!C6-PL_3Y_SME!C7)/PL_3Y_SME!C4 -> 0.2025 | C10: =(PL_3Y_SME!D6-PL_3Y_SME!D7)/PL_3Y_SME!D4 -> 0.2012 | D10: Gross Profit / Revenue | E10: Industry Dependent | F10: Measures core production profitability.
A11: EBITDA Margin % | B11: =PL_3Y_SME!C11/PL_3Y_SME!C4 -> 0.17 | C11: =PL_3Y_SME!D11/PL_3Y_SME!D4 -> 0.1692 | D11: EBITDA / Revenue | E11: Higher is Better | F11: Measures operating profitability before non-cash & financing effects.
A12: EBIT Margin % | B12: =PL_3Y_SME!C14/PL_3Y_SME!C4 -> 0.1575 | C12: =PL_3Y_SME!D14/PL_3Y_SME!D4 -> 0.1572 | D12: EBIT / Revenue | E12: Higher is Better | F12: Measures operating profitability after depreciation.
A13: Net Profit Margin % | B13: =PL_3Y_SME!C19/PL_3Y_SME!C4 -> 0.159 | C13: =PL_3Y_SME!D19/PL_3Y_SME!D4 -> 0.1592 | D13: PAT / Revenue | E13: 5–20% SME Typical | F13: Measures overall profitability after tax.
A14: ROCE % | B14: =PL_3Y_SME!C14/(BS_3Y_SME!C26+BS_3Y_SME!C29) -> 0.052799195 | C14: =PL_3Y_SME!D14/(BS_3Y_SME!D26+BS_3Y_SME!D29) -> 0.058973589 | D14: EBIT / Capital Employed. i.e Equity plus Long term Debt | E14: >15% Strong | F14: Measures return generated on total capital deployed.
A15: ROE % | B15: =PL_3Y_SME!C19/((BS_3Y_SME!B26+BS_3Y_SME!C26)/2) -> 0.089401181 | C15: =PL_3Y_SME!D19/((BS_3Y_SME!C26+BS_3Y_SME!D26)/2) -> 0.10859482 | D15: PAT / Average Equity | E15: >15% Strong | F15: Measures return generated for shareholders.
A16: C. Turnover / Efficiency Ratios
A17: Asset Turnover | B17: =PL_3Y_SME!C6/BS_3Y_SME!C21 -> 0.28994939 | C17: =PL_3Y_SME!D6/BS_3Y_SME!D21 -> 0.34788047 | D17: Revenue / Total Assets | E17: Higher is Efficient | F17: Measures asset utilization efficiency.
A18: Debtor Turnover | B18: =PL_3Y_SME!C6/((BS_3Y_SME!B16+BS_3Y_SME!C16)/2) -> 6.6833333 | C18: =PL_3Y_SME!D6/((BS_3Y_SME!C16+BS_3Y_SME!D16)/2) -> 5.5622222 | D18: Revenue / Average Trade Receivables | E18: Higher is Better | F18: Measures collection efficiency.
A19: Inventory Turnover | B19: =PL_3Y_SME!C7/((BS_3Y_SME!B14+BS_3Y_SME!C14)/2) -> 12.8 | C19: =PL_3Y_SME!D7/((BS_3Y_SME!C14+BS_3Y_SME!D14)/2) -> 11.428571 | D19: COGS / Average Inventory | E19: Higher is Better | F19: Measures inventory movement efficiency.
A20: Creditor Turnover | B20: =PL_3Y_SME!C7/((BS_3Y_SME!B36+BS_3Y_SME!C36)/2) -> 6.6945607 | C20: =PL_3Y_SME!D7/((BS_3Y_SME!C36+BS_3Y_SME!D36)/2) -> 7.6335878 | D20: COGS / Average Trade Payables | E20: Balanced Level | F20: Measures supplier payment cycle efficiency.
A21: D. Leverage / Capital Structure Ratios
A22: Debt to Equity | B22: =(BS_3Y_SME!C29+BS_3Y_SME!C35)/BS_3Y_SME!C26 -> 0.80784766 | C22: =(BS_3Y_SME!D29+BS_3Y_SME!D35)/BS_3Y_SME!D26 -> 0.7505176 | D22: Total Debt / Equity | E22: <1 Conservative | F22: Measures financial leverage level.
A23: Total Liabilities to Tangible Net Worth (TNW) | B23: =(BS_3Y_SME!C32+BS_3Y_SME!C40)/BS_3Y_SME!C26 -> 0.99509521 | C23: =(BS_3Y_SME!D32+BS_3Y_SME!D40)/BS_3Y_SME!D26 -> 0.86206004 | D23: Total Outside Liabilities / Tangible Net Worth | E23: <3 Preferred | F23: Measures overall financial risk relative to tangible capital.
A24: Net Debt to EBITDA | B24: =(BS_3Y_SME!C29+BS_3Y_SME!C35-BS_3Y_SME!C17)/PL_3Y_SME!C11 -> 7.3529412 | C24: =(BS_3Y_SME!D29+BS_3Y_SME!D35-BS_3Y_SME!D17)/PL_3Y_SME!D11 -> 6.1465721 | D24: (Total Debt - Cash) / EBITDA | E24: <2 Strong | 2–3 Moderate | >4 Risky | F24: Measures debt burden relative to operating earnings.
A25: Interest Coverage Ratio | B25: =-PL_3Y_SME!C14/PL_3Y_SME!C16 -> 31.5 | C25: =-PL_3Y_SME!D14/PL_3Y_SME!D16 -> 26.2 | D25: EBIT / Interest Expense | E25: >3 Comfortable | F25: Measures ability to service interest obligations.
A26: Debt Service Coverage Ratio (DSCR) | B26: =-PL_3Y_SME!C11/(PL_3Y_SME!C16-BS_3Y_SME!B35) -> 1.6190476 | C26: =-PL_3Y_SME!D11/(PL_3Y_SME!D16-BS_3Y_SME!C35) -> 1.3428571 | D26: EBITDA / (Interest + Principal Repayment) | E26: >1.2 Healthy | F26: Measures ability to service total debt commitments.

Sheet Dashboard
A2: Executive Financial Dashboard
A3: camsroy.com
A5: 1. Snapshot KPIs | B5: FY2 | C5: FY3
A6: Revenue Growth % | B6: =PL_3Y_SME!E4 -> 1 | C6: =PL_3Y_SME!F4 -> 0.25
A7: EBITDA Margin % | B7: =PL_3Y_SME!C12 -> 0.16957606 | C7: =PL_3Y_SME!D12 -> 0.1689972
A8: Net Profit Margin % | B8: =PL_3Y_SME!C20 -> 0.15860349 | C8: =PL_3Y_SME!D20 -> 0.15900919
A9: ROCE % | B9: ='Ratio-KPI'!B14 -> 0.052799195 | C9: ='Ratio-KPI'!C14 -> 0.058973589
A10: ROE % | B10: ='Ratio-KPI'!B15 -> 0.089401181 | C10: ='Ratio-KPI'!C15 -> 0.10859482
A14: 2. Liquidity & Leverage | B14: FY2 | C14: FY3
A15: Current Ratio | B15: ='Ratio-KPI'!B6 -> 0.97402597 | C15: ='Ratio-KPI'!C6 -> 2.3509934
A16: Quick Ratio | B16: ='Ratio-KPI'!B7 -> 0.81168831 | C16: ='Ratio-KPI'!C7 -> 1.9094923
A17: ='Ratio-KPI'!A8 -> Cash Ratio | B17: ='Ratio-KPI'!B8 -> 0.34632035 | C17: ='Ratio-KPI'!C8 -> 0.72847682
A18: Debt to Equity | B18: ='Ratio-KPI'!B22 -> 0.80784766 | C18: ='Ratio-KPI'!C22 -> 0.7505176
A19: TOL/TNW | B19: ='Ratio-KPI'!B23 -> 0.99509521 | C19: ='Ratio-KPI'!C23 -> 0.86206004
A20: ='Ratio-KPI'!A24 -> Net Debt to EBITDA | B20: ='Ratio-KPI'!B24 -> 7.3529412 | C20: ='Ratio-KPI'!C24 -> 6.1465721
A21: ='Ratio-KPI'!A25 -> Interest Coverage Ratio | B21: ='Ratio-KPI'!B25 -> 31.5 | C21: ='Ratio-KPI'!C25 -> 26.2
A22: ='Ratio-KPI'!A26 -> Debt Service Coverage Ratio (DSCR) | B22: ='Ratio-KPI'!B26 -> 1.6190476 | C22: ='Ratio-KPI'!C26 -> 1.3428571
A27: 3. Working Capital Efficiency | B27: FY2 | C27: FY3
A28: DSO (Days) | B28: =WORKING_CAPITAL!B5 -> 54.613466 | C28: =WORKING_CAPITAL!C5 -> 65.621254
A29: Inventory Days | B29: =WORKING_CAPITAL!B6 -> 28.515625 | C29: =WORKING_CAPITAL!C6 -> 31.9375
A30: DPO (Days) | B30: =WORKING_CAPITAL!B7 -> 54.521875 | C30: =WORKING_CAPITAL!C7 -> 47.815
A31: Cash Conversion Cycle | B31: =WORKING_CAPITAL!B8 -> 28.607216 | C31: =WORKING_CAPITAL!C8 -> 49.743754
A37: C. Turnover / Efficiency Ratios | B37: FY2 | C37: FY3
A38: Asset Turnover | B38: ='Ratio-KPI'!B17 -> 0.28994939 | C38: ='Ratio-KPI'!C17 -> 0.34788047
A39: Debtor Turnover | B39: ='Ratio-KPI'!B18 -> 6.6833333 | C39: ='Ratio-KPI'!C18 -> 5.5622222
A40: Inventory Turnover | B40: ='Ratio-KPI'!B19 -> 12.8 | C40: ='Ratio-KPI'!C19 -> 11.428571
A41: Creditor Turnover | B41: ='Ratio-KPI'!B20 -> 6.6945607 | C41: ='Ratio-KPI'!C20 -> 7.6335878
A53: 4. Revene & Cash Flow Summary | B53: FY2 | C53: FY3
A54: Revenue | B54: =PL_3Y_SME!C4 -> 2000 | C54: =PL_3Y_SME!D4 -> 2500
A55: Operating Cash Flow | B55: =FREECASHFLOW_FY3!B16 -> 240.25 | C55: =FREECASHFLOW_FY3!C16 -> -101.25
A56: CAPEX | B56: =-FREECASHFLOW_FY3!B17 -> 500 | C56: =-FREECASHFLOW_FY3!C17 -> 25
A57: FCFF | B57: =FREECASHFLOW_FY3!B18 -> -259.75 | C57: =FREECASHFLOW_FY3!C18 -> -126.25
A58: FCFE | B58: =FREECASHFLOW_FY3!B21 -> 332.75 | C58: =FREECASHFLOW_FY3!C21 -> -37.5
A59: Net Debt | B59: =(BS_3Y_SME!C29+BS_3Y_SME!C35-BS_3Y_SME!C17) -> 2500 | C59: =(BS_3Y_SME!D29+BS_3Y_SME!D35-BS_3Y_SME!D17) -> 2600

Sheet AI_Summary
A1: AI Financial Health Engine (Fully Automated)
A2: Score Card | B2: Score
A3: Liquidity Score | B3: =IF(AND('Ratio-KPI'!C6>1.8,'Ratio-KPI'!C7>1.2,'Ratio-KPI'!C25>4),5,IF('Ratio-KPI'!C6>1.5,4,IF('Ratio-KPI'!C6>1.2,3,IF('Ratio-KPI'!C6>1,2,1)))) -> 5
A4: Profitability Score | B4: =IF(AND('Ratio-KPI'!C11>0.2,'Ratio-KPI'!C14>0.15),5,IF('Ratio-KPI'!C14>0.12,4,IF('Ratio-KPI'!C14>0.08,3,IF('Ratio-KPI'!C14>0.05,2,1)))) -> 2
A5: Leverage Score | B5: =IF(AND('Ratio-KPI'!C22<0.5,'Ratio-KPI'!C24<2),5,IF('Ratio-KPI'!C22<1,4,IF('Ratio-KPI'!C24<3,3,IF('Ratio-KPI'!C24<5,2,1)))) -> 4
A6: Cash Flow Score | B6: =IF(AND(FREECASHFLOW_FY3!C16>0,FREECASHFLOW_FY3!C18>0),5,IF(FREECASHFLOW_FY3!C16>0,3,1)) -> 1
A7: Working Capital Score | B7: =IF(WORKING_CAPITAL!C8<45,5,IF(WORKING_CAPITAL!C8<60,4,IF(WORKING_CAPITAL!C8<90,3,IF(WORKING_CAPITAL!C8<120,2,1)))) -> 4
A9: Overall Health Score (Out of 25) | B9: =SUM(B3:B7) -> 16
A11: Health Classification | B11: =IF(B9>=21,"Strong",IF(B9>=16,"Stable",IF(B9>=11,"Moderate Risk",IF(B9>=6,"High Risk","Critical")))) -> Stable
A13: AI Executive Summary
A14: ="The company demonstrates a "&B11&" financial profile. Liquidity score is "&B3&"/5, profitability score is "&B4&"/5, leverage score is "&B5&"/5, cash flow score is "&B6&"/5, and working capital score is "&B7&"/5. Overall health score is "&B9&" out of 25." -> The company demonstrates a Stable financial profile. Liquidity score is 5/5, profitability score is 2/5, leverage score is 4/5, cash flow score is 1/5, and working capital score is 4/5. Overall health score is 16 out of 25.
A16: AI Financial Health Analysis Prompt
A17: You are a professional CFO and financial analyst.
A19: Based on the following financial health scores and key metrics:
A21: Liquidity Score: [Cell Reference]
A22: Profitability Score: [Cell Reference]
A23: Leverage Score: [Cell Reference]
A24: Cash Flow Score: [Cell Reference]
A25: Working Capital Score: [Cell Reference]
A26: Overall Health Score: [Cell Reference]
A28: Key Ratios:
A29: Current Ratio: [Value]
A30: Debt to Equity: [Value]
... A49: Be data-driven.
